BEGIN:VCALENDAR
VERSION:2.0
PRODID:-//St Kilda - ECPv6.15.20//NONSGML v1.0//EN
CALSCALE:GREGORIAN
METHOD:PUBLISH
X-ORIGINAL-URL:https://stkildamelbourne.com.au
X-WR-CALDESC:Events for St Kilda
REFRESH-INTERVAL;VALUE=DURATION:PT1H
X-Robots-Tag:noindex
X-PUBLISHED-TTL:PT1H
BEGIN:VTIMEZONE
TZID:UTC
BEGIN:STANDARD
TZOFFSETFROM:+0000
TZOFFSETTO:+0000
TZNAME:UTC
DTSTART:20170101T000000
END:STANDARD
END:VTIMEZONE
BEGIN:VEVENT
DTSTART;VALUE=DATE:20180513
DTEND;VALUE=DATE:20180515
DTSTAMP:20260422T185556
CREATED:20181021T131229Z
LAST-MODIFIED:20181021T131229Z
UID:9301-1526169600-1526342399@stkildamelbourne.com.au
SUMMARY:Missy Higgins @ Palais Theatre
DESCRIPTION:Where: Palais Theatre\, St Kilda\nWhen: Sunday 13th & Monday 14th May 2018\n \n\n\n\n\n\n\n\n\n\n\n\n\n\n\n\n\n\n\n\n\n\n\n\n\n\n\n\n\nRUNNING TIMES \nDoors 7.00pm\nGordi 7.45pm \nRest of times to be announced. \nPalais Theatre’s Bars are open from doors until the end of interval with a selection of food and beverages including sandwiches\, soft drinks\, snacks and ice-creams\, a brand new coffee counter for your favourite hot drinks and our new central bar which is fully fitted out with beers on tap\, wine\, spirits and soft drinks. \nEVENT INFORMATION \nFrontier Touring are thrilled to announce that beloved Australian singer-songwriter\, Missy Higgins will launch her long-awaited fifth studio album Solastalgia with an East Coast tour. \nHiggins first original album in six years – Solastalgia – is set for release April 27. The eagerly anticipated set will feature current hit single ‘Futon Couch’ and sees Higgins explore fresh territory both sonically and lyrically. As one of Australia’s greatest singer-songwriters and most popular live performers these album launch shows are not to be missed. Fans are encouraged to purchase tickets now to avoid disappointment. \nBook tickets here.
URL:https://stkildamelbourne.com.au/event/missy-higgins-palais-theatre/
LOCATION:Palais Theatre \, St Kilda
ATTACH;FMTTYPE=image/jpeg:https://stkildamelbourne.com.au/wp-content/uploads/2018/04/MIssy_Higgins_PalaisTheatre_1024x546.jpg
END:VEVENT
BEGIN:VEVENT
DTSTART;VALUE=DATE:20180511
DTEND;VALUE=DATE:20180527
DTSTAMP:20260422T185556
CREATED:20181021T133239Z
LAST-MODIFIED:20181021T133239Z
UID:9314-1525996800-1527379199@stkildamelbourne.com.au
SUMMARY:Strictly Ballroom @ The National Theatre
DESCRIPTION:Where: The National Theatre\, 20 Carlisle St\, St Kilda\nWhen: 11th – 26th May 2018 \n \n\n\n\n\n\n\n\n\n\n\n\n\n\n\n\n\n\n\n\n\n\n\n\nLove is in the Air.. Strictly Ballroom The Musical will quick step\, cha cha and samba its way into your hearts when it dances its way onto the stage of the National Theatre\, St Kilda in May 2018. As well as spectacular dance sequences\, the show features all the well-known songs from the hit film\, including Time after Time\, Perhaps Perhaps Perhaps\, Tequila and Love is in the Air\, as well as several new songs by internationally acclaimed artists Sia\, David Foster and Eddie Perfect. Strictly Ballroom is being brought to the stage with all the larger than life characters\, costumes\, wigs\, glitz and glamour from the movie\, springing to life in a kaleidoscope of colour and a sequinned\, sparkling visual extravaganza. \nBook ticket here.
URL:https://stkildamelbourne.com.au/event/strictly-ballroom-the-national-theatre/
LOCATION:The National Theatre\, St Kilda\, 20 Carlisle St\, St Kilda\, Melbourne\, VIC\, 3182\, Australia
ATTACH;FMTTYPE=image/png:https://stkildamelbourne.com.au/wp-content/uploads/2018/04/download.png
END:VEVENT
BEGIN:VEVENT
DTSTART;VALUE=DATE:20180501
DTEND;VALUE=DATE:20180507
DTSTAMP:20260422T185556
CREATED:20181021T125956Z
LAST-MODIFIED:20181021T125956Z
UID:9292-1525132800-1525651199@stkildamelbourne.com.au
SUMMARY:Hello Beautiful @ Theatreworks
DESCRIPTION:Where: Theatreworks\, 14 Acland Street\, St Kilda\nWhen: May – 6th May 2018\n \n\n\n\n\n\n\n\n\n\n\n\n\n\n\n\n\n\n\n\n\n\n\n\n\n\n\n\n\n\nBuy tickets here.
URL:https://stkildamelbourne.com.au/event/hello-beautiful-theatreworks/
LOCATION:Theatreworks\, St Kilda\, 14 Auckland St\, Melbourne\, Vic\, 3182\, Australia
ATTACH;FMTTYPE=image/jpeg:https://stkildamelbourne.com.au/wp-content/uploads/2018/04/hello-beautiful.jpg
END:VEVENT
BEGIN:VEVENT
DTSTART;TZID=UTC:20180422T061500
DTEND;TZID=UTC:20180422T143000
DTSTAMP:20260422T185556
CREATED:20181021T133023Z
LAST-MODIFIED:20181021T133023Z
UID:9309-1524377700-1524407400@stkildamelbourne.com.au
SUMMARY:Challenge Melbourne
DESCRIPTION:Where: Catani Gardens St Kilda\nWhen: Sunday 22 April 2018\nTime: 6:15am – 2:30pm\n \n\n\n\n\n\n\n\n\n\n\n\n\n\n\n\n\n\n\n\n\n\n\n\n2018 sees Challenge Melbourne return to Melbourne’s favourite Triathlon location\, Catani Gardens St Kilda. Here\, participants will have exclusive access to the most popular open water swimming beach\, beach side cycle course and running track in Melbourne. Further details on each leg below. \n\nSwim Course – 1.9 km \n\n\nThe 1.9km swim course will start out the front of the St Kilda Sea Baths. Participants will swim 1.4km out the front of the St Kilda Sea Baths and areas in front of Luna Park before heading North and crossing beneath the iconic St Kilda Pier that will no doubt be packed with spectators. \n\nBike Leg – 90 km\nOnce participants have collected their bikes in the Transition Area\, they run with their bikes towards the Mount Line on Pier Rd. Beginning an out-and-back course that starts by initially heading North for the first of three 30km laps of the 90km bike course. Cyclists then head southbound past Sandringham turning at Black Rock\, along a fully closed Beach Rd\, returning to St Kilda. \nChallenge Melbourne Run Course – 21.1 km\nThe run heads out of transition and along the beach pathway towards Brighton. The run course is a 2 lap 21.1km course; each lap just over 10.55km in length. Runners will run along the beach path turning just after the Elwood Boat Ramp. Runners will head back towards the venue on the road side of the bay trail. As athletes enter the venue\, 1st lap runners will keep left around the Rotunda turning left to commence their next lap. On completion of the 2nd lap athletes keep right and will be directed to continue in to the finish chute and across the finish line\, where athletes can claim the victory of conquering Challenge Melbourne and celebrate with their complimentary Stein of beer. \n\n\nMore info here.
URL:https://stkildamelbourne.com.au/event/challenge-melbourne/
LOCATION:Catani Gardens\, St Kilda
ATTACH;FMTTYPE=image/png:https://stkildamelbourne.com.au/wp-content/uploads/2018/04/Untitled-design-14.png
END:VEVENT
BEGIN:VEVENT
DTSTART;VALUE=DATE:20180420
DTEND;VALUE=DATE:20180423
DTSTAMP:20260422T185556
CREATED:20181021T130700Z
LAST-MODIFIED:20181021T130700Z
UID:9297-1524182400-1524441599@stkildamelbourne.com.au
SUMMARY:Dan Sultan – Killer Solo Tour @ Memo Music Hall
DESCRIPTION:Where: Memo Music Hall\, St Kilda\nWhen: 20th\, 21st & 22nd April 2018\n \n\n\n\n\n\n\n\n\n\n\n\n\n\n\n\n\n\n\n\n\n\n\n\n\n\n\n\n\nThe hard working Melbourne musician will hit the road for a run of intimate theatre shows throughout regional and metro centres from March through to June. Leaving his incredible band at home\, the Killer Solo Tour will see the Melbourne musician strip things back to basics – just Dan Sultan\, his piano and guitar. \nEach intimate and acoustic performance will see Sultan reimagining all of his most recent release\, the stirring ARIA #5 debuting\, critically acclaimed Killer (out now via Liberation Records)\, including singles ‘Hold It Together\, ‘Kingdom’\, ‘Magnetic’ and fan-favourites ‘Cul-de-sac’ and ‘Reaction’. In addition fans will be treated to a handful of classics from his decade-long back catalogue (expect hits from Blackbird\, Dirty Ground\, Get Out While You Can and Homemade Biscuits). \nTickets are selling fast! \nBook tickets here.
URL:https://stkildamelbourne.com.au/event/dan-sultan-killer-solo-tour-memo-music-hall/
LOCATION:Memo Music Hall\, St Kilda\, 88 Acland St\, St Kilda\, Melbourne\, Vic\, 3182\, Australia
ATTACH;FMTTYPE=image/jpeg:https://stkildamelbourne.com.au/wp-content/uploads/2018/04/DanSultan-SoloKillerTourImage_small-e1516338379711.jpg
END:VEVENT
BEGIN:VEVENT
DTSTART;VALUE=DATE:20180330
DTEND;VALUE=DATE:20180426
DTSTAMP:20260422T185556
CREATED:20181021T130546Z
LAST-MODIFIED:20181021T130546Z
UID:9295-1522368000-1524700799@stkildamelbourne.com.au
SUMMARY:Autumn School Holidays @ Luna Park
DESCRIPTION:Where: Luna Park\, St Kilda\nWhen: 30th March – 25th April\, 2018\n \n\n\n\n\n\n\n\n\n\n\n\n\n\n\n\n\n\n\n\n\n\n\n\n\n\n\n\n\nHands up if you’d like to enjoy the most ‘egg-citing’ autumn school holidays ever?!  Luna Park is taking this year’s Autumn school holidays to new heights with an ‘eggs-hilarating’ new ride\, an ‘eggs-tended’ Easter egg hunt and fun activities for all the budding artists out there!Roll into Luna Park these autumn school holidays. With a special bonus week of fun activities\, Melbourne’s most loved amusement park will be entertaining families until Sunday 22nd April – there’s no option but to hop to it! \nThrill-seekers will be egg-static with Luna Park’s brand new ride\, Space Jam!  More than double the height of the Scenic Railway and rotating 12 times every minute\, Space Jam will elevate all your expectations as you ride the sky!  The swingingly high ride will only be in the park until 15th April so make sure you grab an upgrade for your Unlimited Ride Ticket or a single ride ticket and get ready to take flight! \nIf you’re feeling ‘egg-stremely’ creative\, stop by the park’s weekend ‘Art Space’ on 7th\, 8th\, 14th and 15th April where kids can let their creativity run free!  To celebrate the release of ‘SHERLOCK GNOMES’\, 35 easels will be set up for budding artists to create their gnome-inspired masterpieces for their chance to win merchandise from the movie.  If that’s not enough\, the first 150 people to purchase a Luna Park Family Pass online will be given a family in-season pass to see the movie which hits cinema screens on 29th March (offer starts 19 March 2018). \nPlus\, we’re open for a ‘BONUS WEEK’\, from Monday 16 April and open Anzac Day on 25 April. \nMore info here.
URL:https://stkildamelbourne.com.au/event/autumn-school-holidays-luna-park/
LOCATION:Luna Park \, St Kilda
ATTACH;FMTTYPE=image/png:https://stkildamelbourne.com.au/wp-content/uploads/2018/01/Untitled-design-17.png
END:VEVENT
END:VCALENDAR